BEGIN:VCALENDAR
VERSION:2.0
PRODID:-//Sacred Mountain Breathwork - ECPv5.14.1//NONSGML v1.0//EN
CALSCALE:GREGORIAN
METHOD:PUBLISH
X-WR-CALNAME:Sacred Mountain Breathwork
X-ORIGINAL-URL:https://sacredmountainbreathwork.com
X-WR-CALDESC:Events for Sacred Mountain Breathwork
BEGIN:VTIMEZONE
TZID:America/New_York
BEGIN:DAYLIGHT
TZOFFSETFROM:-0500
TZOFFSETTO:-0400
TZNAME:EDT
DTSTART:20230312T070000
END:DAYLIGHT
BEGIN:STANDARD
TZOFFSETFROM:-0400
TZOFFSETTO:-0500
TZNAME:EST
DTSTART:20231105T060000
END:STANDARD
END:VTIMEZONE
BEGIN:VEVENT
DTSTART;TZID=America/New_York:20230329T180000
DTEND;TZID=America/New_York:20230329T193000
DTSTAMP:20260424T043123
CREATED:20230309T165512Z
LAST-MODIFIED:20230309T165823Z
UID:995-1680112800-1680118200@sacredmountainbreathwork.com
SUMMARY:Salt Cave Breathwork Journey
DESCRIPTION:Salt Cave Breathwork Journey\nat Purple Sage\, Essex\, VT\nJoin me for an amazing opportunity to experience two powerful healing practices at the same time! Breathwork and Halotherapy both help to restore and rejuvenate the respiratory system so that we can open to more of who we truly are\, reclaiming our ability to live with presence\, purpose and power! \nConscious Breathwork guides us deep to our core\, allowing us to open up and expand\, while releasing unwanted physical\, emotional\, and mental energies.  Using conscious connected breathing\, this guided breathwork meditation supports the immediate movement of energy in the body.  This exchange of energy enables us to let go of all that we have been holding on to\, while awakening renewed space within for all that we are creating in our lives. \nCome Experience the Healing Power of Your Breath & the Salt Cave! \nSalt Cave Breathwork Journey\nMarch 29\, 6pm-7:30pm\nPurple Sage\, Essex\, VT \nThe cost is $60\, and preregistration is required. Limited space available. \nFor more information\, please email Gardner@SacredMountainBreathwork.com \nTo regsiter and reserve your spot\, click here
URL:https://sacredmountainbreathwork.com/event/salt-cave-breathwork-journey/
LOCATION:Purple Sage\, 21 Essex Way Suite 224\, Essex\, VT\, 05452\, United States
CATEGORIES:Breathwork Circles
END:VEVENT
END:VCALENDAR